BEGIN:VCALENDAR
VERSION:2.0
PRODID:-//eventon.com NONSGML v1.0//EN
BEGIN:VEVENT
UID:69e888e34b752
DTSTAMP:20260422T043755
DTSTART:20190404T230000Z
DTEND:20190405T010000Z
LOCATION:
SUMMARY:CLOSED BOARD MEETING
DESCRIPTION: Monroe Fire Department-Station 4 3907 Old Charlotte Hwy Monroe\,  NC 28110 &nbsp; &nbsp;
END:VEVENT
END:VCALENDAR